BEGIN:VCALENDAR
VERSION:2.0
PRODID:-//Site de la commune de Durtal - ECPv5.9.0//NONSGML v1.0//EN
CALSCALE:GREGORIAN
METHOD:PUBLISH
X-WR-CALNAME:Site de la commune de Durtal
X-ORIGINAL-URL:https://www.ville-durtal.fr
X-WR-CALDESC:évènements pour Site de la commune de Durtal
BEGIN:VTIMEZONE
TZID:Europe/Paris
BEGIN:DAYLIGHT
TZOFFSETFROM:+0100
TZOFFSETTO:+0200
TZNAME:CEST
DTSTART:20220327T010000
END:DAYLIGHT
BEGIN:STANDARD
TZOFFSETFROM:+0200
TZOFFSETTO:+0100
TZNAME:CET
DTSTART:20221030T010000
END:STANDARD
END:VTIMEZONE
BEGIN:VEVENT
DTSTART;TZID=Europe/Paris:20220501T090000
DTEND;TZID=Europe/Paris:20220501T120000
DTSTAMP:20260422T221517
CREATED:20220401T072432Z
LAST-MODIFIED:20220401T072941Z
UID:8932-1651395600-1651406400@www.ville-durtal.fr
SUMMARY:Stage de kundalini yoga
DESCRIPTION:Ces stages de kundalini yoga vous permettront de connaître ce type de yoga\, d’apprécier son impact positif sur votre corps et votre ressenti intérieur\, et de découvrir la beauté et la variété des enseignements yogiques. A travers les outils proposés par cette discipline – postures\, enchaînements\, respirations\, travail sur le corps et la voix\, gestuelle\, méditations nous approcherons les traditions de yoga. \nAucune pré-connaissance n’est nécessaire. Ces stages s’adressent aux personnes novices et aux personnes pratiquant déjà le yoga. \nRenseignements et inscriptions : \nBozena Le Talludec – 0662255760\, \nvivreetdevenir@gmail.com
URL:https://www.ville-durtal.fr/evenement/stage-de-kundalini-yoga/
ATTACH;FMTTYPE=image/jpeg:https://www.ville-durtal.fr/wp-content/uploads/2022/04/seance-yoga.shutterstock_677361496-scaled.jpg
END:VEVENT
END:VCALENDAR