BEGIN:VCALENDAR
VERSION:2.0
PRODID:-//Site de la commune de Durtal - ECPv5.9.0//NONSGML v1.0//EN
CALSCALE:GREGORIAN
METHOD:PUBLISH
X-WR-CALNAME:Site de la commune de Durtal
X-ORIGINAL-URL:https://www.ville-durtal.fr
X-WR-CALDESC:évènements pour Site de la commune de Durtal
BEGIN:VTIMEZONE
TZID:Europe/Paris
BEGIN:DAYLIGHT
TZOFFSETFROM:+0100
TZOFFSETTO:+0200
TZNAME:CEST
DTSTART:20210328T010000
END:DAYLIGHT
BEGIN:STANDARD
TZOFFSETFROM:+0200
TZOFFSETTO:+0100
TZNAME:CET
DTSTART:20211031T010000
END:STANDARD
END:VTIMEZONE
BEGIN:VEVENT
DTSTART;TZID=Europe/Paris:20211113T150000
DTEND;TZID=Europe/Paris:20211128T180000
DTSTAMP:20260422T231453
CREATED:20211028T113947Z
LAST-MODIFIED:20211028T114005Z
UID:8156-1636815600-1638122400@www.ville-durtal.fr
SUMMARY:Exposition Pierre Brunellière par l'association Artsécoles
DESCRIPTION:L’association Artsécoles expose Pierre Brunellière à la salle Joël Baudouin du 13 au 28 novembre. \nChristine Batailler\, présidente de l’association Artsécoles\, présente l’association : « L’association a été créée il y a deux ans pour aider les enseignants des écoles à entrer en contact avec des artistes professionnels susceptibles d’enrichir les projets artistiques dans les écoles. Elle se donne également pour objectif d’organiser deux expositions par année scolaire\, à destination des élèves du secteur de collège de Durtal mais aussi du grand public. La première édition a eu lieu en mars 2020. 600 visiteurs ont pu admirer durant une semaine les œuvres de Mélanie Vallet\, artiste sarthoise. La covid nous a contraints à reporter plusieurs fois le second projet.\nNous pouvons enfin annoncer notre nouvelle exposition qui durera deux semaines afin que davantage de classes puissent y avoir accès. Nous vous espérons nombreux. A très bientôt.» \nLe mot de l’artiste.\nPierre Brunellière\, artiste angevin\, aime donner à son art un accent de spontanéité : « Des collages immédiats pour une destination inconnue. C’est le titre que je propose pour mon exposition à Durtal. Je présenterai des peintures/collages.\nPour moi\, la technique du collage\, à partir de matériaux pauvres\, est un moyen d’accéder à mon imaginaire. La matière informelle et sans organisation sert de support à un travail d’émergence de figurations fantastiques dans un espace qui n’est pas notre environnement habituel. C’est un espace aérien ou aquatique où des personnages merveilleux ou monstrueux évoluent. Cette mise en scène de rêves éveillés se construit peu à peu dans l’élaboration d’un tableau. Des histoires peuvent alors se fabriquer. L’art que je développe est donc un moyen de s’envoler dans le fantastique ou dans la fantaisie. C’est pourquoi je lui ai donné ce titre « des collages » qui veut aussi dire décollage ou envol à la façon des oiseaux ou des drones qui prennent de l’altitude.» \nExposition ouverte au public tous les jours de 15h à 18h- entrée libre\nSalle Joël Baudouin\, rue du Maréchal de Vieilleville\, derrière la Mairie
URL:https://www.ville-durtal.fr/evenement/exposition-pierre-brunelliere-par-lassociation-artsecoles/
LOCATION:Salle Joël Baudouin\, Rue du maréchal de Vieilleville\, Durtal\, 49430\, France
ATTACH;FMTTYPE=image/jpeg:https://www.ville-durtal.fr/wp-content/uploads/2021/10/202111-affiche-exposition-scaled.jpg
END:VEVENT
END:VCALENDAR