BEGIN:VCALENDAR
VERSION:2.0
PRODID:-//Site de la commune de Durtal - ECPv5.9.0//NONSGML v1.0//EN
CALSCALE:GREGORIAN
METHOD:PUBLISH
X-WR-CALNAME:Site de la commune de Durtal
X-ORIGINAL-URL:https://www.ville-durtal.fr
X-WR-CALDESC:évènements pour Site de la commune de Durtal
BEGIN:VTIMEZONE
TZID:Europe/Paris
BEGIN:DAYLIGHT
TZOFFSETFROM:+0100
TZOFFSETTO:+0200
TZNAME:CEST
DTSTART:20220327T010000
END:DAYLIGHT
BEGIN:STANDARD
TZOFFSETFROM:+0200
TZOFFSETTO:+0100
TZNAME:CET
DTSTART:20221030T010000
END:STANDARD
END:VTIMEZONE
BEGIN:VEVENT
DTSTART;VALUE=DATE:20220507
DTEND;VALUE=DATE:20220508
DTSTAMP:20260423T011808
CREATED:20220419T155302Z
LAST-MODIFIED:20220419T155338Z
UID:8983-1651881600-1651967999@www.ville-durtal.fr
SUMMARY:4e vide-grenier des Aiglons
DESCRIPTION:L’association des Aiglons Durtalois organise un vide-grenier \nSamedi 7 mai\nAu stade municipal \nRestauration Buvette Animations \nContact : 06 27 14 17 48\nanim.aiglons@gmail.com \n 
URL:https://www.ville-durtal.fr/evenement/4e-vide-grenier-des-aiglons/
LOCATION:stade de la montagne
ATTACH;FMTTYPE=image/jpeg:https://www.ville-durtal.fr/wp-content/uploads/2022/04/aiglons.jpg
END:VEVENT
END:VCALENDAR