BEGIN:VCALENDAR
VERSION:2.0
PRODID:-//Site de la commune de Durtal - ECPv5.9.0//NONSGML v1.0//EN
CALSCALE:GREGORIAN
METHOD:PUBLISH
X-WR-CALNAME:Site de la commune de Durtal
X-ORIGINAL-URL:https://www.ville-durtal.fr
X-WR-CALDESC:évènements pour Site de la commune de Durtal
BEGIN:VTIMEZONE
TZID:Europe/Paris
BEGIN:DAYLIGHT
TZOFFSETFROM:+0100
TZOFFSETTO:+0200
TZNAME:CEST
DTSTART:20260329T010000
END:DAYLIGHT
BEGIN:STANDARD
TZOFFSETFROM:+0200
TZOFFSETTO:+0100
TZNAME:CET
DTSTART:20261025T010000
END:STANDARD
END:VTIMEZONE
BEGIN:VEVENT
DTSTART;TZID=Europe/Paris:20260404T203000
DTEND;TZID=Europe/Paris:20260404T233000
DTSTAMP:20260419T144949
CREATED:20251224T141541Z
LAST-MODIFIED:20251224T141602Z
UID:15528-1775334600-1775345400@www.ville-durtal.fr
SUMMARY:Festival Rives de Blues & Co – COSMOS FACTORY
DESCRIPTION:Dans le cadre de la 5e édition du festival Rives de Blues & Co\, la Ville de Durtal accueille COSMOS FACTORY pour une soirée exceptionnelle dédiée au légendaire groupe Creedence Clearwater Revival. \nCOSMOS FACTORY propose un hommage fidèle et énergique à l’univers de CCR\, mêlant rock\, blues et americana\, porté par une interprétation sincère et une grande qualité musicale. Un retour aux sources du rock américain\, authentique et puissant\, qui ravira les amateurs de blues comme le grand public. \nCette date s’inscrit dans une programmation itinérante du festival\, organisée par Jean-Claude et Annick Lizée\, qui fait rayonner le blues et ses influences sur plusieurs communes du Maine-et-Loire.\nPour plus d’informations sur le festival\, sa programmation complète et les informations pratiques\, n’hésitez pas à consulter le site : www.rivesdeblues.com \nÀ noterD’autres concerts sont programmés dans le cadre du festival Rives de Blues & Co du 2 au 5 avril 2026\, dans plusieurs communes du Maine-et-Loire. \n  \n 
URL:https://www.ville-durtal.fr/evenement/festival-rives-de-blues-co-cosmos-factory/
LOCATION:L’Odyssée\, 23 Rue de Bellevue\, Durtal\, 49430\, France
CATEGORIES:Concert
ATTACH;FMTTYPE=image/jpeg:https://www.ville-durtal.fr/wp-content/uploads/2025/12/Affiche-Carré-RIVES-DE-BLUES-AND-CO.jpg
END:VEVENT
BEGIN:VEVENT
DTSTART;TZID=Europe/Paris:20260411T090000
DTEND;TZID=Europe/Paris:20260411T120000
DTSTAMP:20260419T144949
CREATED:20260409T065119Z
LAST-MODIFIED:20260409T065119Z
UID:16173-1775898000-1775908800@www.ville-durtal.fr
SUMMARY:🌸🧹 [ REPAIR CAFÉ DE DURTAL - Donnons une seconde vie à vos objets ! ] 🧹🌿
DESCRIPTION:Vous avez fait un ménage de printemps ?\nVotre petit électroménager\, vélo\, outils de jardin\, matériel informatique\, jouets\, etc. ne fonctionnent plus ?\n👉 Ne les jetez pas\, venez les réparer avec nous !\n \n📅 Samedi 11 avril 2026 \n 9h – 12h\n salle 1901 (10 rue du stade – 49430 Durtal) \n \nAu programme :\n🔧 Des supers bénévoles pour vous accompagner dans vos réparations\n🔧 Conseils\, entraide et partage de savoir-faire\n🔧 Un moment convivial autour du “faire ensemble » ☕🥐\n \n⚠️ Attention : le prochain Repair Café aura lieu le 6 juin (pas de session en mai)\n \n💬 Venez nombreux dès 9h ! \nEt si vous aimez bricoler\, coudre ou aider : rejoignez-nous comme bénévole 🙂 \n \n🌍 Chaque réparation\, c’est un déchet en moins !\n \nN’hésitez pas à partager l’information autour de vous 📢 \nA très bientôt !\n \n📩 participation-citoyenne@ville-durtal.fr | 📞 02 53 04 68 17 \n 
URL:https://www.ville-durtal.fr/evenement/%f0%9f%8c%b8%f0%9f%a7%b9-repair-cafe-de-durtal-donnons-une-seconde-vie-a-vos-objets-%f0%9f%a7%b9%f0%9f%8c%bf/
LOCATION:Espace 1901\, rue camille claudel\, durtal\, 49430
ATTACH;FMTTYPE=image/png:https://www.ville-durtal.fr/wp-content/uploads/2026/04/2026.02-03-et-04-Affiche-Repair-Café-Durtal-POUR-INSTAGRAM.png
END:VEVENT
BEGIN:VEVENT
DTSTART;TZID=Europe/Paris:20260415T150000
DTEND;TZID=Europe/Paris:20260415T170000
DTSTAMP:20260419T144949
CREATED:20260408T085437Z
LAST-MODIFIED:20260408T085437Z
UID:16165-1776265200-1776272400@www.ville-durtal.fr
SUMMARY:🚨 Test de la sirène d’alerte 🚨
DESCRIPTION:Dans le cadre de l’installation d’une nouvelle sirène sur le site Camille Claudel\, un test sera réalisé : \n🗓 Mercredi 15 avril 2026🕒 Entre 15h et 17h \n👉 Ce déclenchement est uniquement un test technique.👉 Aucune action particulière n’est attendue de la population. \nℹ️ Cette sirène permet d’alerter rapidement la population en cas de danger majeur (accident\, risque naturel\, événement exceptionnel) et de diffuser les consignes de sécurité. \nMerci de votre compréhension. \nhttps://www.securite-civile.interieur.gouv.fr/reagir/comment-se-preparer-face-aux-risques/systeme-dalerte-des 
URL:https://www.ville-durtal.fr/evenement/%f0%9f%9a%a8-test-de-la-sirene-dalerte-%f0%9f%9a%a8/
LOCATION:Salle Camille Claudel\, rue Camille Claudel\, Durtal\, 49430\, France
ATTACH;FMTTYPE=image/jpeg:https://www.ville-durtal.fr/wp-content/uploads/2026/04/Test-sirene-2026.jpg
END:VEVENT
BEGIN:VEVENT
DTSTART;TZID=Europe/Paris:20260424T100000
DTEND;TZID=Europe/Paris:20260424T120000
DTSTAMP:20260419T144949
CREATED:20260417T132704Z
LAST-MODIFIED:20260417T132704Z
UID:16275-1777024800-1777032000@www.ville-durtal.fr
SUMMARY:[🌿OISEAUX REMARQUABLES DE LA FORET DE CHAMBIERS – VENDREDI 24 AVRIL🌳]
DESCRIPTION:Et si vous profitiez de ces vacances scolaires pour une animation nature en forêt communale de Chambiers ?\n \nEt oui\, au printemps\, la forêt s’anime doucement.\n \nA leur retour d’Afrique\, les différentes espèces de pouillots prennent leurs quartiers dans la forêt et défendent leur territoire en chantant. Apprenez à les reconnaître et tenter de rencontrer les rares Pouillots siffleurs et Pouillots de Bonelli. \n \n📍 Rendez-vous : route de Beauvau\, parking de la forêt de Chambiers en face du Château\n🕑 Horaires : 10H / 12H – le vendredi 24 avril \n💡 Gratuit – sur inscription uniquement :\n📧 transition-ecologique@ville-durtal.fr\n📞 02 41 76 30 24 \n👉 Une sortie nature à ne pas manquer\, organisée par la commune de Durtal dans le cadre des RDV Nature en Anjou et animée par la LPO Anjou\, en partenariat avec le Département de Maine-et-Loire
URL:https://www.ville-durtal.fr/evenement/%f0%9f%8c%bfoiseaux-remarquables-de-la-foret-de-chambiers-vendredi-24-avril%f0%9f%8c%b3/
LOCATION:foret de chambiers\, Chambiers\, Durtal\, 49430\, France
ATTACH;FMTTYPE=image/gif:https://www.ville-durtal.fr/wp-content/uploads/2026/04/Affiche-Carre-Oiseaux-remarquables.gif
END:VEVENT
END:VCALENDAR